BEGIN:VCALENDAR
VERSION:2.0
PRODID:-//Завод за проучавање културног развитка - ECPv6.10.3//NONSGML v1.0//EN
CALSCALE:GREGORIAN
METHOD:PUBLISH
X-WR-CALNAME:Завод за проучавање културног развитка
X-ORIGINAL-URL:https://zaprokul.org.rs
X-WR-CALDESC:Events for Завод за проучавање културног развитка
REFRESH-INTERVAL;VALUE=DURATION:PT1H
X-Robots-Tag:noindex
X-PUBLISHED-TTL:PT1H
BEGIN:VTIMEZONE
TZID:Europe/Helsinki
BEGIN:DAYLIGHT
TZOFFSETFROM:+0200
TZOFFSETTO:+0300
TZNAME:EEST
DTSTART:20240331T010000
END:DAYLIGHT
BEGIN:STANDARD
TZOFFSETFROM:+0300
TZOFFSETTO:+0200
TZNAME:EET
DTSTART:20241027T010000
END:STANDARD
END:VTIMEZONE
BEGIN:VEVENT
DTSTART;TZID=Europe/Helsinki:20241107T180000
DTEND;TZID=Europe/Helsinki:20241107T200000
DTSTAMP:20260421T134608
CREATED:20241031T130045Z
LAST-MODIFIED:20241031T130045Z
UID:21484-1731002400-1731009600@zaprokul.org.rs
SUMMARY:7.11. Отварање изложбе Данила Матаруге - AID
DESCRIPTION:
URL:https://zaprokul.org.rs/dogadjaj/7-11-otvaranje-izlozbe-danila-mataruge-aid/
LOCATION:Завод за проучавање културног развитка\, Риге од Фере 4\, Београд
END:VEVENT
END:VCALENDAR