BEGIN:VCALENDAR
VERSION:2.0
PRODID:-//Завод за проучавање културног развитка - ECPv6.10.3//NONSGML v1.0//EN
CALSCALE:GREGORIAN
METHOD:PUBLISH
X-ORIGINAL-URL:https://zaprokul.org.rs
X-WR-CALDESC:Events for Завод за проучавање културног развитка
REFRESH-INTERVAL;VALUE=DURATION:PT1H
X-Robots-Tag:noindex
X-PUBLISHED-TTL:PT1H
BEGIN:VTIMEZONE
TZID:Europe/Helsinki
BEGIN:DAYLIGHT
TZOFFSETFROM:+0200
TZOFFSETTO:+0300
TZNAME:EEST
DTSTART:20240331T010000
END:DAYLIGHT
BEGIN:STANDARD
TZOFFSETFROM:+0300
TZOFFSETTO:+0200
TZNAME:EET
DTSTART:20241027T010000
END:STANDARD
END:VTIMEZONE
BEGIN:VEVENT
DTSTART;TZID=Europe/Helsinki:20241127T120000
DTEND;TZID=Europe/Helsinki:20241127T140000
DTSTAMP:20260421T134740
CREATED:20241125T102323Z
LAST-MODIFIED:20241125T102323Z
UID:21669-1732708800-1732716000@zaprokul.org.rs
SUMMARY:27.11. ФОРУМ О СТВАРАЛАШТВУ: ФЕСТИВАЛИ УМЕТНИЧКЕ МУЗИКЕ У СРБИЈИ
DESCRIPTION:Завод за проучавање културног развитка наставља серију дискусија у оквиру Форума о стваралаштву посвећених уметничкој музици. Следећи догађај бави се темом „Фестивали уметничке музике у Србији“\, са циљем да се анализирају тренутно стање\, изазови и могућности за унапређење фестивалске сцене у овој области. \nВише о догађају можете прочитати овде
URL:https://zaprokul.org.rs/dogadjaj/27-11-forum-o-stvaralastvu-festivali-umetnicke-muzike-u-srbiji/
END:VEVENT
END:VCALENDAR