BEGIN:VCALENDAR
VERSION:2.0
PRODID:-//Завод за проучавање културног развитка - ECPv6.10.3//NONSGML v1.0//EN
CALSCALE:GREGORIAN
METHOD:PUBLISH
X-WR-CALNAME:Завод за проучавање културног развитка
X-ORIGINAL-URL:https://zaprokul.org.rs
X-WR-CALDESC:Events for Завод за проучавање културног развитка
REFRESH-INTERVAL;VALUE=DURATION:PT1H
X-Robots-Tag:noindex
X-PUBLISHED-TTL:PT1H
BEGIN:VTIMEZONE
TZID:Europe/Helsinki
BEGIN:DAYLIGHT
TZOFFSETFROM:+0200
TZOFFSETTO:+0300
TZNAME:EEST
DTSTART:20240331T010000
END:DAYLIGHT
BEGIN:STANDARD
TZOFFSETFROM:+0300
TZOFFSETTO:+0200
TZNAME:EET
DTSTART:20241027T010000
END:STANDARD
END:VTIMEZONE
BEGIN:VEVENT
DTSTART;TZID=Europe/Helsinki:20241204T120000
DTEND;TZID=Europe/Helsinki:20241204T140000
DTSTAMP:20260421T134624
CREATED:20241202T110544Z
LAST-MODIFIED:20241202T110544Z
UID:21724-1733313600-1733320800@zaprokul.org.rs
SUMMARY:4.12. ФОРУМ О СТВАРАЛАШТВУ: ОПЕРА У СРБИЈИ – СТАЊЕ И ПЕРСПЕКТИВЕ
DESCRIPTION:Завод за проучавање културног развитка наставља са серијом значајних разговора у оквиру Форума о стваралаштву посвећеног уметничкој музици. Наредни Форум биће одржан у среду\, 4. децембра 2024. године\, у Галерији Завода (Риге од Фере 4) са почетком у 12 часова\, под називом „Опера у Србији: стање и перспективе “. \nВише о томе можете прочитати овде.
URL:https://zaprokul.org.rs/dogadjaj/4-12-forum-o-stvaralastvu-opera-u-srbiji-stanje-i-perspektive/
LOCATION:Завод за проучавање културног развитка\, Риге од Фере 4\, Београд
END:VEVENT
BEGIN:VEVENT
DTSTART;TZID=Europe/Helsinki:20241210T120000
DTEND;TZID=Europe/Helsinki:20241210T140000
DTSTAMP:20260421T134624
CREATED:20241203T133241Z
LAST-MODIFIED:20241203T133241Z
UID:21731-1733832000-1733839200@zaprokul.org.rs
SUMMARY:10.12. Промоција књиге награђене на конкурсу „Новица Тадић”
DESCRIPTION:Промоција збирке песама „Безгранични прелаз” Тамаре Радевић\, која је награђена наградом „Новица Тадић”. Награду „Новица Тадић”  за најбоље рукописе младих песника\, од 2018. године додељује Завод за проучавање културног развитка\, под покровитељством Министарства културе Републике Србије\, а награђене књиге се објављују у оквиру едиције „Присутва”. \nВише о томе можете прочитати овде.
URL:https://zaprokul.org.rs/dogadjaj/10-12-promocija-knjige-nagradjene-na-konkursu-novica-tadic/
LOCATION:Завод за проучавање културног развитка\, Риге од Фере 4\, Београд
END:VEVENT
BEGIN:VEVENT
DTSTART;TZID=Europe/Helsinki:20241213T120000
DTEND;TZID=Europe/Helsinki:20241213T140000
DTSTAMP:20260421T134624
CREATED:20241209T084148Z
LAST-MODIFIED:20241209T132404Z
UID:21749-1734091200-1734098400@zaprokul.org.rs
SUMMARY:13.12. Форум: Уметничка музика у Србији
DESCRIPTION:
URL:https://zaprokul.org.rs/dogadjaj/11-12-forum-umetnicka-muzika-u-srbiji/
LOCATION:Завод за проучавање културног развитка\, Риге од Фере 4\, Београд
END:VEVENT
BEGIN:VEVENT
DTSTART;TZID=Europe/Helsinki:20241218T120000
DTEND;TZID=Europe/Helsinki:20241218T140000
DTSTAMP:20260421T134624
CREATED:20241209T084224Z
LAST-MODIFIED:20241209T084224Z
UID:21755-1734523200-1734530400@zaprokul.org.rs
SUMMARY:18.12. Форум: Уметничка музика у Србији
DESCRIPTION:
URL:https://zaprokul.org.rs/dogadjaj/18-12-forum-umetnicka-muzika-u-srbiji/
LOCATION:Завод за проучавање културног развитка\, Риге од Фере 4\, Београд
END:VEVENT
BEGIN:VEVENT
DTSTART;TZID=Europe/Helsinki:20241225T120000
DTEND;TZID=Europe/Helsinki:20241225T140000
DTSTAMP:20260421T134624
CREATED:20241223T115612Z
LAST-MODIFIED:20241223T115823Z
UID:21846-1735128000-1735135200@zaprokul.org.rs
SUMMARY:25.12. Промоција књиге „На базену“ ауторке Дивне Вуксановић
DESCRIPTION:
URL:https://zaprokul.org.rs/dogadjaj/25-12-promocija-knjige-na-bazenu-autorke-divne-vuksanovic/
LOCATION:Завод за проучавање културног развитка\, Риге од Фере 4\, Београд
END:VEVENT
END:VCALENDAR